BEGIN:VCALENDAR
VERSION:2.0
PRODID:-//WinStar - ECPv4.6.24.1//NONSGML v1.0//EN
CALSCALE:GREGORIAN
METHOD:PUBLISH
X-WR-CALNAME:WinStar
X-ORIGINAL-URL:https://www.winstar.com
X-WR-CALDESC:Events for WinStar
BEGIN:VEVENT
DTSTART;TZID=America/Chicago:20240209T200000
DTEND;TZID=America/Chicago:20240209T200000
DTSTAMP:20260425T231558
CREATED:20181029T150008Z
LAST-MODIFIED:20240202T163651Z
UID:20894-1707508800-1707508800@www.winstar.com
SUMMARY:Charlie Wilson
DESCRIPTION:Don’t miss your chance to catch iconic R&B artist Charlie Wilson as he takes the stage at Lucas Oil Live on Feb. 9. \nWith 13 Grammy nominations\, 1 NAACP Image Awards\, and countless hit singles\, Charlie Wilson has supplanted his name among R&B’s most revered artists. Throughout the years\, this lead singer of the Gap Band helped define an infectious form of funk\, soul and blues that still resonates with audiences the world over. \nOn Feb 9\, the Tulsa-born legend will take the stage at Lucas Oil Live for an evening of incredible moments\, music and memories. Join us as we welcome Charlie Wilson to WinStar World Casino & Resort. \nDoors open 1.5 hours before showtime. \n
URL:https://www.winstar.com/event/charlie-wilson/
CATEGORIES:Entertainment,Music,R&B
ATTACH;FMTTYPE=image/jpeg:https://www.winstar.com/wp-content/uploads/2018/10/WS-23-LOL-CharlieWilson-notext-web-1920x1080-1.jpg
END:VEVENT
END:VCALENDAR