BEGIN:VCALENDAR
VERSION:2.0
PRODID:-//WinStar - ECPv4.6.24.1//NONSGML v1.0//EN
CALSCALE:GREGORIAN
METHOD:PUBLISH
X-WR-CALNAME:WinStar
X-ORIGINAL-URL:https://www.winstar.com
X-WR-CALDESC:Events for WinStar
BEGIN:VEVENT
DTSTART;TZID=America/Chicago:20240127T200000
DTEND;TZID=America/Chicago:20240127T200000
DTSTAMP:20260425T194907
CREATED:20230901T145527Z
LAST-MODIFIED:20240110T205731Z
UID:35564-1706385600-1706385600@www.winstar.com
SUMMARY:Brad Paisley
DESCRIPTION:In the world of modern country music\, Brad Paisley is among America’s most celebrated stars. With over 11 million albums sold\, three Grammy Awards and countless other accolades this incredible musician has made a lasting impact on the genre. Songs like “Whiskey Lullaby\,” “I’m Gonna Miss Her\,” and “Waitin’ On a Woman” have won audiences the world over. \nOn Jan. 27\, this revered singer and songwriter will make his way to the stage at Lucas Oil Live. Don’t miss your chance to sing along to his incredible catalog of country hits as Brad Paisley makes his appearance. \n
URL:https://www.winstar.com/event/brad-paisley-2/
CATEGORIES:Entertainment,Music,Rock
ATTACH;FMTTYPE=image/png:https://www.winstar.com/wp-content/uploads/2023/08/WS-23-LOL-bradpaisley-notext-web-1920x1080-1.00-DH.png
END:VEVENT
END:VCALENDAR