BEGIN:VCALENDAR
VERSION:2.0
PRODID:-//WinStar - ECPv4.6.24.1//NONSGML v1.0//EN
CALSCALE:GREGORIAN
METHOD:PUBLISH
X-WR-CALNAME:WinStar
X-ORIGINAL-URL:https://www.winstar.com
X-WR-CALDESC:Events for WinStar
BEGIN:VEVENT
DTSTART;TZID=America/Chicago:20240126T200000
DTEND;TZID=America/Chicago:20240126T200000
DTSTAMP:20260425T194655
CREATED:20230901T145552Z
LAST-MODIFIED:20240122T155728Z
UID:35568-1706299200-1706299200@www.winstar.com
SUMMARY:Frankie Valli & The Four Seasons
DESCRIPTION:With a total of 38 top 40 hits including “Sherry\,” “Can’t Take My Eyes Off You\,” and “Walk Like a Man\,” Frankie Valli rose to fame as the lead singer of The Four Seasons and a legend in blue-eyed soul. In 2014\, Clint Eastwood chronicled the meteoric rise of Frankie Valli and The Four Seasons in the film Jersey Boys\, based on the jukebox musical of the same name. \nOn Jan. 26 at 8 PM\, this one-of-a-kind act will grace the all-new stage at Lucas Oil Live\, reprising some of the most revered hits in American pop music. Don’t miss this opportunity to catch true living legends as they perform from their catalog of incredible standards. \n
URL:https://www.winstar.com/event/frankie-valli-and-the-four-seasons/
CATEGORIES:Entertainment,Music,Rock
ATTACH;FMTTYPE=image/jpeg:https://www.winstar.com/wp-content/uploads/2023/09/Frankie-Valli-The-Last-Encores.jpg
END:VEVENT
END:VCALENDAR