BEGIN:VCALENDAR
VERSION:2.0
PRODID:-//WinStar - ECPv4.6.24.1//NONSGML v1.0//EN
CALSCALE:GREGORIAN
METHOD:PUBLISH
X-WR-CALNAME:WinStar
X-ORIGINAL-URL:https://www.winstar.com
X-WR-CALDESC:Events for WinStar
BEGIN:VEVENT
DTSTART;TZID=America/Chicago:20240120T200000
DTEND;TZID=America/Chicago:20240120T200000
DTSTAMP:20260425T181454
CREATED:20231023T135543Z
LAST-MODIFIED:20240110T205915Z
UID:36222-1705780800-1705780800@www.winstar.com
SUMMARY:John Mulaney
DESCRIPTION:Don’t miss your chance to see comedian John Mulaney as he brings his unmistakable brand of comic brilliance to Lucas Oil Live on Jan. 20. \nComedian John Mulaney rose to prominence after writing some of the most unforgettable sketches in Saturday Night Live history. After starring in standup specials like Baby J\, Kid Gorgeous\, and New In Town\, Mulaney has gained a massive audience that’s drawn to his unmistakable brand of observational humor. \nOn Jan. 20\, this renowned stand-up star is headed to WinStar World Casino & Resort for a night of incredible comedy and unforgettable antics. Don’t miss your chance to see John Mulaney as he lights up the stage at Lucas Oil Live! \n  This event will be a phone-free experience. Use of phones\, smartwatches\, and accessories will not be permitted in the performance space. Yondr pouches will be provided to store your devices. For more information about Yondr pouches\, please see the Additional Information section below. \n  \n
URL:https://www.winstar.com/event/john-mulaney/
CATEGORIES:Arts & Theatre,Comedy,Entertainment
ATTACH;FMTTYPE=image/png:https://www.winstar.com/wp-content/uploads/2023/10/WS-24-LOL-john-mulaney-notext-web-1920x1080-1.00-DH.png
END:VEVENT
END:VCALENDAR