BEGIN:VCALENDAR
VERSION:2.0
PRODID:-//WinStar - ECPv4.6.24.1//NONSGML v1.0//EN
CALSCALE:GREGORIAN
METHOD:PUBLISH
X-WR-CALNAME:WinStar
X-ORIGINAL-URL:https://www.winstar.com
X-WR-CALDESC:Events for WinStar
BEGIN:VEVENT
DTSTART;TZID=America/Chicago:20240113T200000
DTEND;TZID=America/Chicago:20240113T200000
DTSTAMP:20260425T170300
CREATED:20230811T145530Z
LAST-MODIFIED:20240828T163150Z
UID:35415-1705176000-1705176000@www.winstar.com
SUMMARY:Boyz II Men
DESCRIPTION:Best known for their emotional ballads and acapella harmonies\, Boyz II Men have secured their spot as legends in the R&B world. This four-time Grammy Award-winning act has garnered attention from across the globe for hits like “I’ll Make Love to You\,” “On Bended Knee\,” and “End of the Road.” \nNow the 1990s phenomenon known as Boyz II Men are making their way to WinStar World Casino & Resort for one sweet night of exceptional performances. Join us at Lucas Oil Live on Jan. 13 for a concert experience you won’t soon forget! \n
URL:https://www.winstar.com/event/boyz-ii-men-1/
CATEGORIES:Entertainment,Music,R&B
ATTACH;FMTTYPE=image/png:https://www.winstar.com/wp-content/uploads/2023/08/cndc-ws-boyz2men-image-web-1920x1080-1.00-KN.png
END:VEVENT
END:VCALENDAR