BEGIN:VCALENDAR
VERSION:2.0
PRODID:-//WinStar - ECPv4.6.24.1//NONSGML v1.0//EN
CALSCALE:GREGORIAN
METHOD:PUBLISH
X-WR-CALNAME:WinStar
X-ORIGINAL-URL:https://www.winstar.com
X-WR-CALDESC:Events for WinStar
BEGIN:VEVENT
DTSTART;TZID=America/Chicago:20231228T210000
DTEND;TZID=America/Chicago:20231228T210000
DTSTAMP:20260425T130224
CREATED:20230921T145523Z
LAST-MODIFIED:20231230T003322Z
UID:35731-1703797200-1703797200@www.winstar.com
SUMMARY:Lynyrd Skynyrd: Celebrating 50 Years
DESCRIPTION:As Lynyrd Skynyrd celebrates the 50th anniversary of the band’s critically acclaimed debut album Pronounced ‘Lĕh-‘nérd ‘Skin-‘nérd\, they resonate as deeply with their multi-generational fan base today as when they first emerged out of Jacksonville\, Florida in 1973. With hits like “Sweet Home Alabama\,” “Free Bird” and “Gimme Three Steps\,” few ensembles have had the lasting impact that Skynyrd has. With a catalog of over 60 albums\, billions of streams\, and tens of millions of records sold\, Rock & Roll Hall of Famers Lynyrd Skynyrd remain a cultural icon that appeals to all generations. \nWinStar World Casino & Resort welcomes this rock n’ roll powerhouse to the Lucas Oil Live stage on Dec. 28. Don’t miss out on one of the hottest events of the year. \n
URL:https://www.winstar.com/event/lynyrd-skynyrd/
CATEGORIES:Entertainment,Music,Rock
ATTACH;FMTTYPE=image/png:https://www.winstar.com/wp-content/uploads/2023/09/winstar-lynyrd-skynyrd.png
END:VEVENT
END:VCALENDAR