BEGIN:VCALENDAR
VERSION:2.0
PRODID:-//WinStar - ECPv4.6.24.1//NONSGML v1.0//EN
CALSCALE:GREGORIAN
METHOD:PUBLISH
X-WR-CALNAME:WinStar
X-ORIGINAL-URL:https://www.winstar.com
X-WR-CALDESC:Events for WinStar
BEGIN:VEVENT
DTSTART;TZID=America/Chicago:20231118T200000
DTEND;TZID=America/Chicago:20231118T200000
DTSTAMP:20260425T012928
CREATED:20230727T190617Z
LAST-MODIFIED:20231102T182242Z
UID:35302-1700337600-1700337600@www.winstar.com
SUMMARY:Smokey Robinson
DESCRIPTION:Within the canon of classic American R&B\, soul and songwriting\, Smokey Robinson stands out as a true icon. This Motown mega-star got his start as the lead singer of The Miracles\, gaining global recognition for top ten singles such as “I Second That Emotion\,” “Baby Baby Don’t Cry\,” and “You’ve Really Got a Hold On Me.” \nIn his solo career\, Smokey Robinson amassed an array of chart-toppers including “Cruisin’\,” “Being With You\,” and “Just to See Her\,” which secured his status as a Grammy Award winner in 1988. \nOn Nov. 18\, this Rock & Roll Hall of Famer is headed to the Lucas Oil Live stage for one unbelievable performance and a night of unforgettable moments. Get your tickets for Smokey Robinson before they’re gone. This is one show you just can’t miss. \n
URL:https://www.winstar.com/event/smokey-robinson/
CATEGORIES:Entertainment,Music,R&B
ATTACH;FMTTYPE=image/png:https://www.winstar.com/wp-content/uploads/2023/07/WS-23-LOL-smokey-robinson-notext-web-1920x1080-DH.png
END:VEVENT
END:VCALENDAR