BEGIN:VCALENDAR
VERSION:2.0
PRODID:-//WinStar - ECPv4.6.24.1//NONSGML v1.0//EN
CALSCALE:GREGORIAN
METHOD:PUBLISH
X-WR-CALNAME:WinStar
X-ORIGINAL-URL:https://www.winstar.com
X-WR-CALDESC:Events for WinStar
BEGIN:VEVENT
DTSTART;TZID=America/Chicago:20231013T200000
DTEND;TZID=America/Chicago:20231013T200000
DTSTAMP:20260424T155530
CREATED:20230519T145544Z
LAST-MODIFIED:20231012T033541Z
UID:30206-1697227200-1697227200@www.winstar.com
SUMMARY:Ringo Starr and His All-Starr Band
DESCRIPTION:Best known as the Beatles’ drummer\, Ringo Starr is one of the most recognizable figures in the history of pop music. With his group\, Ringo Starr & His All-Starr Band\, this legendary musician has assembled some of the most talented troubadours in the business\, pulling from acts like Men at Work\, Toto\, Kansas and more. Their performances are as exciting as they are exceptional\, reprising pop standards like “Yellow Submarine\,” “With a Little Help From My Friends\,” and “Rosanna.” \nOn Oct. 13 at 8 PM\, WinStar World Casino & Resort is excited to host this one-of-a-kind concert experience. Join us at Lucas Oil Live as Ringo Starr and His All-Starr Band bring down the house in one of the most anticipated shows this year. Get your tickets while they last! \n
URL:https://www.winstar.com/event/ringo-starr-and-his-all-starr-band/
CATEGORIES:Entertainment,Music,Pop
ATTACH;FMTTYPE=image/jpeg:https://www.winstar.com/wp-content/uploads/2022/02/WS-Ringo-ImageNoText-1920x1080-1.jpg
END:VEVENT
END:VCALENDAR